BEGIN:VCALENDAR
VERSION:2.0
PRODID:-//85.13.128.143//NONSGML kigkonsult.se iCalcreator 2.20//
CALSCALE:GREGORIAN
METHOD:PUBLISH
X-WR-TIMEZONE:Europe/Berlin
BEGIN:VEVENT
UID:event8@NWV-Bremen
DTSTAMP:20260425T205305Z
CATEGORIES:Botanische Arbeitsgemeinschaft
DESCRIPTION:Halbtrockenrasen Hemkenrode\, Naturpark Lappwald\nSubject area:
  Botanische Arbeitsgemeinschaft\nLink: https://nwv-bremen.de/index.php?opt
 ion=com_jem&view=event&id=8:halbtrockenrasen-hemkenrode-lappwald\n
DTSTART;VALUE=DATE:20020615
DTEND;VALUE=DATE:20020616
LOCATION:11 Uhr\, Abfahrt Braunschweig Ost (A 7/A 2)\,Hemkenrode\,Germany
SUMMARY:Halbtrockenrasen Hemkenrode\, Naturpark Lappwald
URL:https://nwv-bremen.de/index.php?option=com_jem&view=event&id=8:halbtroc
 kenrasen-hemkenrode-lappwald
END:VEVENT
END:VCALENDAR
