BEGIN:VCALENDAR
VERSION:2.0
PRODID:-//85.13.128.143//NONSGML kigkonsult.se iCalcreator 2.20//
CALSCALE:GREGORIAN
METHOD:PUBLISH
X-WR-TIMEZONE:Europe/Berlin
BEGIN:VEVENT
UID:event780@NWV-Bremen
DTSTAMP:20260422T064124Z
CATEGORIES:Winter-Vortragsreihen
DESCRIPTION:Was wissen wir über die Evolution alpiner Ökosysteme\nSubject a
 rea: Winter-Vortragsreihen\nLink: https://nwv-bremen.de/index.php?option=c
 om_jem&view=event&id=780:alpine Ökosysteme Tibet Äthiopien\n
DTSTART;TZID=Europe/Berlin:20170109T200000
DTEND;TZID=Europe/Berlin:20170109T200000
LOCATION:Übersee-Museum / Vortragssaal\,Bahnhofsplatz 13\,28195 Bremen
SUMMARY:Was wissen wir über die Evolution alpiner Ökosysteme
END:VEVENT
END:VCALENDAR
