BEGIN:VCALENDAR
VERSION:2.0
PRODID:-//85.13.128.143//NONSGML kigkonsult.se iCalcreator 2.20//
CALSCALE:GREGORIAN
METHOD:PUBLISH
X-WR-TIMEZONE:Europe/Berlin
BEGIN:VEVENT
UID:event749@NWV-Bremen
DTSTAMP:20260419T145421Z
CATEGORIES:Botanische Arbeitsgemeinschaft
DESCRIPTION:Der Hasbruch – botanisch und zoologisch betrachtet\nSubject are
 a: Botanische Arbeitsgemeinschaft\nLink: https://nwv-bremen.de/index.php?o
 ption=com_jem&view=event&id=749:Der Hasbruch botanisch und zoologisch 2016
 \n
DTSTART;TZID=Europe/Berlin:20160422T164500
DTEND;TZID=Europe/Berlin:20160422T194500
LOCATION:Hasbruch\,Am Forsthaus 4\,27798 Hude
SUMMARY:Der Hasbruch – botanisch und zoologisch betrachtet
END:VEVENT
END:VCALENDAR
