BEGIN:VCALENDAR
VERSION:2.0
PRODID:-//85.13.128.143//NONSGML kigkonsult.se iCalcreator 2.20//
CALSCALE:GREGORIAN
METHOD:PUBLISH
X-WR-TIMEZONE:Europe/Berlin
BEGIN:VEVENT
UID:event25@NWV-Bremen
DTSTAMP:20260420T212614Z
CATEGORIES:Arbeitskreis Säugetiere
DESCRIPTION:Kobolde der Nacht: Fledermause in Oberneuland\nSubject area: Ar
 beitskreis Säugetiere\nLink: https://nwv-bremen.de/index.php?option=com_je
 m&view=event&id=25:fledermaeuse-oberneuland\n
DTSTART;VALUE=DATE:20020526
DTEND;VALUE=DATE:20020527
LOCATION:21 Uhr Eingang Höpkens Ruh\,Bremen
SUMMARY:Kobolde der Nacht: Fledermause in Oberneuland
URL:https://nwv-bremen.de/index.php?option=com_jem&view=event&id=25:flederm
 aeuse-oberneuland
END:VEVENT
END:VCALENDAR
