BEGIN:VCALENDAR
VERSION:2.0
PRODID:-//85.13.128.143//NONSGML kigkonsult.se iCalcreator 2.20//
CALSCALE:GREGORIAN
METHOD:PUBLISH
X-WR-TIMEZONE:Europe/Berlin
BEGIN:VEVENT
UID:event159@NWV-Bremen
DTSTAMP:20260421T021827Z
CATEGORIES:Botanische Arbeitsgemeinschaft
DESCRIPTION:Aboretum Iken in Rockwinkel\nSubject area: Botanische Arbeitsge
 meinschaft\nLink: https://nwv-bremen.de/index.php?option=com_jem&view=even
 t&id=159:aboretum-iken-rockwinkel\n
DTSTART;VALUE=DATE:20050702
DTEND;VALUE=DATE:20050703
LOCATION:9.00 Uhr auf dem Parkplatz des Golfclubs am Heinri
SUMMARY:Aboretum Iken in Rockwinkel
URL:https://nwv-bremen.de/index.php?option=com_jem&view=event&id=159:aboret
 um-iken-rockwinkel
END:VEVENT
END:VCALENDAR
