BEGIN:VCALENDAR
VERSION:2.0
PRODID:-//85.13.128.143//NONSGML kigkonsult.se iCalcreator 2.20//
CALSCALE:GREGORIAN
METHOD:PUBLISH
X-WR-TIMEZONE:Europe/Berlin
BEGIN:VEVENT
UID:event121@NWV-Bremen
DTSTAMP:20260424T135555Z
CATEGORIES:Botanische Arbeitsgemeinschaft
DESCRIPTION:Watjens Park Bremen-Nord\nSubject area: Botanische Arbeitsgemei
 nschaft\nLink: https://nwv-bremen.de/index.php?option=com_jem&view=event&i
 d=121:waetjens-park-\n
DTSTART;VALUE=DATE:20040522
DTEND;VALUE=DATE:20040523
LOCATION:10 Uhr\, Parkeingang\,Landrat-Christians-Straße\,Germany
SUMMARY:Watjens Park Bremen-Nord
URL:https://nwv-bremen.de/index.php?option=com_jem&view=event&id=121:waetje
 ns-park-
END:VEVENT
END:VCALENDAR
