BEGIN:VCALENDAR
VERSION:2.0
PRODID:-//85.13.128.143//NONSGML kigkonsult.se iCalcreator 2.20//
CALSCALE:GREGORIAN
METHOD:PUBLISH
X-WR-TIMEZONE:Europe/Berlin
BEGIN:VEVENT
UID:event38@NWV-Bremen
DTSTAMP:20260420T111602Z
CATEGORIES:Botanische Arbeitsgemeinschaft
DESCRIPTION:Moosexkursion in den Harz\nSubject area: Botanische Arbeitsgeme
 inschaft\nLink: https://nwv-bremen.de/index.php?option=com_jem&view=event&
 id=38:moosexkursion-harz\n
DTSTART;VALUE=DATE:20030712
DTEND;VALUE=DATE:20030713
LOCATION:10 Uhr\, Rathausplatz in Bad Harzburg.\,Bad Harzburg
SUMMARY:Moosexkursion in den Harz
URL:https://nwv-bremen.de/index.php?option=com_jem&view=event&id=38:moosexk
 ursion-harz
END:VEVENT
END:VCALENDAR
