BEGIN:VCALENDAR
VERSION:2.0
PRODID:-//85.13.128.143//NONSGML kigkonsult.se iCalcreator 2.20//
CALSCALE:GREGORIAN
METHOD:PUBLISH
X-WR-TIMEZONE:Europe/Berlin
BEGIN:VEVENT
UID:event233@NWV-Bremen
DTSTAMP:20260424T032547Z
CATEGORIES:Botanische Arbeitsgemeinschaft
DESCRIPTION:Kraut- oder Unkraut - das ist hier die Frage - Bremer Stadtgrün
  einmal anders.\nFachgebiet: Botanische Arbeitsgemeinschaft\nICS-Link: htt
 ps://nwv-bremen.de/index.php?option=com_jem&view=event&id=233:krautoder-un
 krautdas-hier-fragebremer-stadtgrün-einmal-anders\n
DTSTART;VALUE=DATE:20070826
DTEND;VALUE=DATE:20070827
LOCATION:Bremen-Steintor\, Ziegenmarkt\,Vor dem Steintor\,28203 Bremen
SUMMARY:Kraut- oder Unkraut - das ist hier die Frage - Bremer Stadtgrün ein
 mal anders.
END:VEVENT
END:VCALENDAR
