BEGIN:VCALENDAR
VERSION:2.0
PRODID:-//85.13.128.143//NONSGML kigkonsult.se iCalcreator 2.20//
CALSCALE:GREGORIAN
METHOD:PUBLISH
X-WR-TIMEZONE:Europe/Berlin
BEGIN:VEVENT
UID:event1030@NWV-Bremen
DTSTAMP:20260422T204810Z
CATEGORIES:Arbeitskreis Pilzkunde
DESCRIPTION:'Holzurburg' und seine Spätherbstliche Pilzflora\nFachgebiet: A
 rbeitskreis Pilzkunde\nICS-Link: https://nwv-bremen.de/index.php?option=co
 m_jem&view=event&id=1030:holzurburg-spaetherbst-pilzflora-2022\n
DTSTART;TZID=Europe/Berlin:20221119T100000
DTEND;TZID=Europe/Berlin:20221119T100000
LOCATION:Holzurburg am Bederkesaer See
SUMMARY:'Holzurburg' und seine Spätherbstliche Pilzflora
URL:https://nwv-bremen.de/index.php?option=com_jem&view=event&id=1030:holzu
 rburg-spaetherbst-pilzflora-2022
END:VEVENT
BEGIN:VEVENT
UID:event1098@NWV-Bremen
DTSTAMP:20260422T204810Z
CATEGORIES:Arbeitskreis Pilzkunde
DESCRIPTION:'Holzurburg' und seine spätsommerliche Pilzflora (Landkreis Cux
 haven)\nFachgebiet: Arbeitskreis Pilzkunde\nICS-Link: https://nwv-bremen.d
 e/index.php?option=com_jem&view=event&id=1098:holzurburg-spaetsommerlich-p
 ilzflora-cuxhaven-2023\n
DTSTART;TZID=Europe/Berlin:20230910T100000
DTEND;TZID=Europe/Berlin:20230910T100000
LOCATION:Holzurburg am Bederkesaer See
SUMMARY:'Holzurburg' und seine spätsommerliche Pilzflora (Landkreis Cuxhave
 n)
URL:https://nwv-bremen.de/index.php?option=com_jem&view=event&id=1098:holzu
 rburg-spaetsommerlich-pilzflora-cuxhaven-2023
END:VEVENT
BEGIN:VEVENT
UID:event1213@NWV-Bremen
DTSTAMP:20260422T204810Z
CATEGORIES:Arbeitskreis Pilzkunde
DESCRIPTION:'Holzurburg' und seine herbstliche Pilzflora (Landkreis Cuxhave
 n). – TK 2319/3\nFachgebiet: Arbeitskreis Pilzkunde\nICS-Link: https://nwv
 -bremen.de/index.php?option=com_jem&view=event&id=1213:holzurburg-herbstli
 che-pilzflora-landkreis-cuxhaven-tk-2319-3-2024\n
DTSTART;TZID=Europe/Berlin:20241013T100000
DTEND;TZID=Europe/Berlin:20241013T100000
LOCATION:Holzurburg am Bederkesaer See
SUMMARY:'Holzurburg' und seine herbstliche Pilzflora (Landkreis Cuxhaven). 
 – TK 2319/3
URL:https://nwv-bremen.de/index.php?option=com_jem&view=event&id=1213:holzu
 rburg-herbstliche-pilzflora-landkreis-cuxhaven-tk-2319-3-2024
END:VEVENT
END:VCALENDAR
