BEGIN:VCALENDAR
VERSION:2.0
PRODID:-//85.13.128.143//NONSGML kigkonsult.se iCalcreator 2.20//
CALSCALE:GREGORIAN
METHOD:PUBLISH
X-WR-TIMEZONE:Europe/Berlin
BEGIN:VEVENT
UID:event758@NWV-Bremen
DTSTAMP:20260423T221554Z
CATEGORIES:Botanische Arbeitsgemeinschaft
DESCRIPTION:Geo-Tag der Artenvielfalt in der Mittleren Wümmeniederung\nFach
 gebiet: Botanische Arbeitsgemeinschaft\nICS-Link: https://nwv-bremen.de/in
 dex.php?option=com_jem&view=event&id=758:Geo-Tag Artenvielfalt Mittleren W
 ümmeniederung\n
DTSTART;TZID=Europe/Berlin:20160618T100000
DTEND;TZID=Europe/Berlin:20160618T100000
LOCATION:Wümmeniederung / Hellwege\,27367 Hellwege
SUMMARY:Geo-Tag der Artenvielfalt in der Mittleren Wümmeniederung
END:VEVENT
BEGIN:VEVENT
UID:event851@NWV-Bremen
DTSTAMP:20260423T221554Z
CATEGORIES:Botanische Arbeitsgemeinschaft
DESCRIPTION:Geo-Tag der Artenvielfalt in der Mittleren Wümmeniederung\nFach
 gebiet: Botanische Arbeitsgemeinschaft\nICS-Link: https://nwv-bremen.de/in
 dex.php?option=com_jem&view=event&id=851:Geo-Tag-Artenvielfalt-Mittleren-W
 uemmeniederung-2018\n
DTSTART;TZID=Europe/Berlin:20180623T100000
DTEND;TZID=Europe/Berlin:20180623T170000
LOCATION:Wümmeniederung / Hellwege\,27367 Hellwege
SUMMARY:Geo-Tag der Artenvielfalt in der Mittleren Wümmeniederung
URL:https://nwv-bremen.de/index.php?option=com_jem&view=event&id=851:Geo-Ta
 g-Artenvielfalt-Mittleren-Wuemmeniederung-2018
END:VEVENT
END:VCALENDAR
