BEGIN:VCALENDAR
VERSION:2.0
PRODID:-//85.13.128.143//NONSGML kigkonsult.se iCalcreator 2.20//
CALSCALE:GREGORIAN
METHOD:PUBLISH
X-WR-TIMEZONE:Europe/Berlin
BEGIN:VEVENT
UID:event530@NWV-Bremen
DTSTAMP:20260424T115510Z
CATEGORIES:Botanische Arbeitsgemeinschaft
DESCRIPTION:Brackwasserwiesen zwischen Weddewarden und Wremer Tief im Frühl
 ingsaspekt\nFachgebiet: Botanische Arbeitsgemeinschaft\nICS-Link: https://
 nwv-bremen.de/index.php?option=com_jem&view=event&id=530:Brackwasserwiesen
  Weddewarden Wremer Tief\n
DTSTART;TZID=Europe/Berlin:20130525T100000
DTEND;TZID=Europe/Berlin:20130525T130000
LOCATION:Weddewarden\,Bremerhaven
SUMMARY:Brackwasserwiesen zwischen Weddewarden und Wremer Tief im Frühlings
 aspekt
END:VEVENT
BEGIN:VEVENT
UID:event957@NWV-Bremen
DTSTAMP:20260424T115510Z
CATEGORIES:Botanische Arbeitsgemeinschaft
DESCRIPTION:XX-VERSCHOBEN: Ästuarwiesen zwischen Weddewarden und Dorumer Ti
 ef\nFachgebiet: Botanische Arbeitsgemeinschaft\nICS-Link: https://nwv-brem
 en.de/index.php?option=com_jem&view=event&id=957:aestuarwiesen-weddewarden
 -dorumer-tief-2020\n
DTSTART;TZID=Europe/Berlin:20200517T133000
DTEND;TZID=Europe/Berlin:20200517T173000
LOCATION:Weddewarden\,Bremerhaven
SUMMARY:XX-VERSCHOBEN: Ästuarwiesen zwischen Weddewarden und Dorumer Tief
URL:https://nwv-bremen.de/index.php?option=com_jem&view=event&id=957:aestua
 rwiesen-weddewarden-dorumer-tief-2020
END:VEVENT
END:VCALENDAR
