BEGIN:VCALENDAR
VERSION:2.0
PRODID:-//85.13.128.143//NONSGML kigkonsult.se iCalcreator 2.20//
CALSCALE:GREGORIAN
METHOD:PUBLISH
X-WR-TIMEZONE:Europe/Berlin
BEGIN:VEVENT
UID:event485@NWV-Bremen
DTSTAMP:20260424T172631Z
CATEGORIES:Ornithologische Veranstaltungen
DESCRIPTION:Vogelstimmen im Menkepark und Umgebung (Horn/Oberneuland)\nFach
 gebiet: Ornithologische Veranstaltungen\nICS-Link: https://nwv-bremen.de/i
 ndex.php?option=com_jem&view=event&id=485:vogelstimmen-im-menkepark-und-um
 gebung-hornoberneuland\n
DTSTART;TZID=Europe/Berlin:20120414T070000
DTEND;TZID=Europe/Berlin:20120414T090000
LOCATION:Menkepark (Leher Heerstraße)\,Leher Heerstraße\,Bremen
SUMMARY:Vogelstimmen im Menkepark und Umgebung (Horn/Oberneuland)
URL:https://nwv-bremen.de/index.php?option=com_jem&view=event&id=485:vogels
 timmen-im-menkepark-und-umgebung-hornoberneuland
END:VEVENT
BEGIN:VEVENT
UID:event486@NWV-Bremen
DTSTAMP:20260424T172631Z
CATEGORIES:Ornithologische Veranstaltungen
DESCRIPTION:Vogelstimmen im Menkepark und Umgebung (Horn/Oberneuland)\nFach
 gebiet: Ornithologische Veranstaltungen\nICS-Link: https://nwv-bremen.de/i
 ndex.php?option=com_jem&view=event&id=486:vogelstimmen-im-menkepark-und-um
 gebung-hornoberneuland\n
DTSTART;TZID=Europe/Berlin:20120421T070000
DTEND;TZID=Europe/Berlin:20120421T090000
LOCATION:Menkepark (Leher Heerstraße)\,Leher Heerstraße\,Bremen
SUMMARY:Vogelstimmen im Menkepark und Umgebung (Horn/Oberneuland)
URL:https://nwv-bremen.de/index.php?option=com_jem&view=event&id=486:vogels
 timmen-im-menkepark-und-umgebung-hornoberneuland
END:VEVENT
BEGIN:VEVENT
UID:event487@NWV-Bremen
DTSTAMP:20260424T172631Z
CATEGORIES:Ornithologische Veranstaltungen
DESCRIPTION:Vogelstimmen im Menkepark und Umgebung (Horn/Oberneuland)\nFach
 gebiet: Ornithologische Veranstaltungen\nICS-Link: https://nwv-bremen.de/i
 ndex.php?option=com_jem&view=event&id=487:vogelstimmen-im-menkepark-und-um
 gebung-hornoberneuland\n
DTSTART;TZID=Europe/Berlin:20120505T070000
DTEND;TZID=Europe/Berlin:20120505T090000
LOCATION:Menkepark (Leher Heerstraße)\,Leher Heerstraße\,Bremen
SUMMARY:Vogelstimmen im Menkepark und Umgebung (Horn/Oberneuland)
URL:https://nwv-bremen.de/index.php?option=com_jem&view=event&id=487:vogels
 timmen-im-menkepark-und-umgebung-hornoberneuland
END:VEVENT
END:VCALENDAR
