BEGIN:VCALENDAR
VERSION:2.0
PRODID:-//85.13.128.143//NONSGML kigkonsult.se iCalcreator 2.20//
CALSCALE:GREGORIAN
METHOD:PUBLISH
X-WR-TIMEZONE:Europe/Berlin
BEGIN:VEVENT
UID:event711@NWV-Bremen
DTSTAMP:20260422T054151Z
CATEGORIES:Winter-Vortragsreihen
DESCRIPTION:Gashydrate aus dem Meer.\nFachgebiet: Winter-Vortragsreihen\nIC
 S-Link: https://nwv-bremen.de/index.php?option=com_jem&view=event&id=711:g
 ashydrate-aus-dem-meer\n
DTSTART;TZID=Europe/Berlin:20160215T200000
DTEND;TZID=Europe/Berlin:20160215T200000
LOCATION:Übersee-Museum / Vortragssaal\,Bahnhofsplatz 13\,28195 Bremen
SUMMARY:Gashydrate aus dem Meer.
URL:https://nwv-bremen.de/index.php?option=com_jem&view=event&id=711:gashyd
 rate-aus-dem-meer
END:VEVENT
END:VCALENDAR
