BEGIN:VCALENDAR
VERSION:2.0
PRODID:-//85.13.128.143//NONSGML kigkonsult.se iCalcreator 2.20//
CALSCALE:GREGORIAN
METHOD:PUBLISH
X-WR-TIMEZONE:Europe/Berlin
BEGIN:VEVENT
UID:event525@NWV-Bremen
DTSTAMP:20260424T031008Z
CATEGORIES:Botanische Arbeitsgemeinschaft
DESCRIPTION:Der Hasbruch – botanisch und zoologisch betrachtet.\nFachgebiet
 : Botanische Arbeitsgemeinschaft\nICS-Link: https://nwv-bremen.de/index.ph
 p?option=com_jem&view=event&id=525:Hasbruch–botanisch-zoologisch-2013\n
DTSTART;TZID=Europe/Berlin:20130412T164500
DTEND;TZID=Europe/Berlin:20130412T194500
LOCATION:Hasbruch\,Am Forsthaus 4\,27798 Hude
SUMMARY:Der Hasbruch – botanisch und zoologisch betrachtet.
END:VEVENT
END:VCALENDAR
