BEGIN:VCALENDAR
VERSION:2.0
PRODID:-//85.13.128.143//NONSGML kigkonsult.se iCalcreator 2.20//
CALSCALE:GREGORIAN
METHOD:PUBLISH
X-WR-TIMEZONE:Europe/Berlin
BEGIN:VEVENT
UID:event411@NWV-Bremen
DTSTAMP:20260423T131401Z
CATEGORIES:Geowissenschaftlicher Arbeitskreis
DESCRIPTION:Klapperstein und Seeigel\nFachgebiet: Geowissenschaftlicher Arb
 eitskreis\nICS-Link: https://nwv-bremen.de/index.php?option=com_jem&view=e
 vent&id=411:fossilien-møn\n
DTSTART;TZID=Europe/Berlin:20110512T192000
DTEND;TZID=Europe/Berlin:20110512T192000
LOCATION:Geowissenschaftliche Sammlung (im MARUM)\,Leobener Str. 8\,28359 B
 remen
SUMMARY:Klapperstein und Seeigel
END:VEVENT
END:VCALENDAR
