BEGIN:VCALENDAR
VERSION:2.0
PRODID:-//85.13.128.143//NONSGML kigkonsult.se iCalcreator 2.20//
CALSCALE:GREGORIAN
METHOD:PUBLISH
X-WR-TIMEZONE:Europe/Berlin
BEGIN:VEVENT
UID:event136@NWV-Bremen
DTSTAMP:20260422T064059Z
CATEGORIES:Arbeitskreis Säugetiere
DESCRIPTION:Akrobaten der Lüfte: Fledermause in Oberneuland\nFachgebiet: Ar
 beitskreis Säugetiere\nICS-Link: https://nwv-bremen.de/index.php?option=co
 m_jem&view=event&id=136:2004-06-fledermause-oberneuland\n
DTSTART;TZID=Europe/Berlin:20040604T210000
DTEND;TZID=Europe/Berlin:20040604T210000
LOCATION:Muhles Park/Höpkens Ruh\,Auf der Alten Weide\,Bremen Oberneuland
SUMMARY:Akrobaten der Lüfte: Fledermause in Oberneuland
URL:https://nwv-bremen.de/index.php?option=com_jem&view=event&id=136:2004-0
 6-fledermause-oberneuland
END:VEVENT
END:VCALENDAR
