BEGIN:VCALENDAR
VERSION:2.0
PRODID:-//85.13.128.143//NONSGML kigkonsult.se iCalcreator 2.20//
CALSCALE:GREGORIAN
METHOD:PUBLISH
X-WR-TIMEZONE:Europe/Berlin
BEGIN:VEVENT
UID:event117@NWV-Bremen
DTSTAMP:20260423T223225Z
CATEGORIES:Botanische Arbeitsgemeinschaft
DESCRIPTION:Reithbruch\nFachgebiet: Botanische Arbeitsgemeinschaft\nICS-Lin
 k: https://nwv-bremen.de/index.php?option=com_jem&view=event&id=117:2004-0
 4-reithbruch\n
DTSTART;TZID=Europe/Berlin:20040405T100000
DTEND;TZID=Europe/Berlin:20040405T100000
LOCATION:10 Uhr\, B74\, Scharmbeckstotel Richtung OHZ.\,Osterholz-Scharmbec
 k
SUMMARY:Reithbruch
URL:https://nwv-bremen.de/index.php?option=com_jem&view=event&id=117:2004-0
 4-reithbruch
END:VEVENT
END:VCALENDAR
